BEGIN:VCALENDAR
VERSION:2.0
PRODID:-//Lakefield Animal Welfare Society - ECPv6.15.20//NONSGML v1.0//EN
CALSCALE:GREGORIAN
METHOD:PUBLISH
X-WR-CALNAME:Lakefield Animal Welfare Society
X-ORIGINAL-URL:https://www.lakefieldanimalwelfare.org
X-WR-CALDESC:Events for Lakefield Animal Welfare Society
REFRESH-INTERVAL;VALUE=DURATION:PT1H
X-Robots-Tag:noindex
X-PUBLISHED-TTL:PT1H
BEGIN:VTIMEZONE
TZID:America/Toronto
BEGIN:DAYLIGHT
TZOFFSETFROM:-0500
TZOFFSETTO:-0400
TZNAME:EDT
DTSTART:20250309T070000
END:DAYLIGHT
BEGIN:STANDARD
TZOFFSETFROM:-0400
TZOFFSETTO:-0500
TZNAME:EST
DTSTART:20251102T060000
END:STANDARD
BEGIN:DAYLIGHT
TZOFFSETFROM:-0500
TZOFFSETTO:-0400
TZNAME:EDT
DTSTART:20260308T070000
END:DAYLIGHT
BEGIN:STANDARD
TZOFFSETFROM:-0400
TZOFFSETTO:-0500
TZNAME:EST
DTSTART:20261101T060000
END:STANDARD
BEGIN:DAYLIGHT
TZOFFSETFROM:-0500
TZOFFSETTO:-0400
TZNAME:EDT
DTSTART:20270314T070000
END:DAYLIGHT
BEGIN:STANDARD
TZOFFSETFROM:-0400
TZOFFSETTO:-0500
TZNAME:EST
DTSTART:20271107T060000
END:STANDARD
END:VTIMEZONE
BEGIN:VEVENT
DTSTART;TZID=America/Toronto:20260118T183000
DTEND;TZID=America/Toronto:20260118T203000
DTSTAMP:20260421T111601
CREATED:20251128T041927Z
LAST-MODIFIED:20251128T041951Z
UID:8100-1768761000-1768768200@www.lakefieldanimalwelfare.org
SUMMARY:Restorative Candlelit Yoga
DESCRIPTION:Join us for a peaceful evening of Restorative Candlelight Yoga in support of the Lakefield Animal Welfare Society (LAWS). Hosted by Mindful Moves\, this gentle\, grounding session is designed to help you unwind\, reconnect\, and reset — all while making a meaningful difference for animals in our care. \nSurrounded by warm candlelight\, participants will be guided through calming poses and mindful breathing techniques suitable for all experience levels. Whether you’re new to yoga or a seasoned practitioner\, this class offers a moment of deep relaxation and community connection. \nAll proceeds from this event directly support the animals at LAWS\, helping provide essential care\, medical support\, and safe shelter for pets in need. \nWhy Attend?\n\nSupport local animals in need\nEnjoy a deeply relaxing yoga practice\nConnect with your community\nBegin the new year with mindfulness and purpose\n\nRegistration & Questions\nFor questions or to secure your spot\, please email mindfulmoves23@gmail.com \nWe hope to see you there for a beautiful evening that supports a meaningful cause!
URL:https://www.lakefieldanimalwelfare.org/events_calendars/restorative-candlelit-yoga/
LOCATION:Bridgenorth Library\, 836 Charles St.\, Bridgenorth\, Ontario\, K0L 1H0\, Canada
CATEGORIES:Community Organized Fundraiser
ATTACH;FMTTYPE=image/png:https://www.lakefieldanimalwelfare.org/wp-content/uploads/2025/11/Mindful-Moves-LAWS-2.png
END:VEVENT
END:VCALENDAR