BEGIN:VCALENDAR
VERSION:2.0
PRODID:-//Lakefield Animal Welfare Society - ECPv6.15.20//NONSGML v1.0//EN
CALSCALE:GREGORIAN
METHOD:PUBLISH
X-ORIGINAL-URL:https://www.lakefieldanimalwelfare.org
X-WR-CALDESC:Events for Lakefield Animal Welfare Society
REFRESH-INTERVAL;VALUE=DURATION:PT1H
X-Robots-Tag:noindex
X-PUBLISHED-TTL:PT1H
BEGIN:VTIMEZONE
TZID:America/Toronto
BEGIN:DAYLIGHT
TZOFFSETFROM:-0500
TZOFFSETTO:-0400
TZNAME:EDT
DTSTART:20250309T070000
END:DAYLIGHT
BEGIN:STANDARD
TZOFFSETFROM:-0400
TZOFFSETTO:-0500
TZNAME:EST
DTSTART:20251102T060000
END:STANDARD
BEGIN:DAYLIGHT
TZOFFSETFROM:-0500
TZOFFSETTO:-0400
TZNAME:EDT
DTSTART:20260308T070000
END:DAYLIGHT
BEGIN:STANDARD
TZOFFSETFROM:-0400
TZOFFSETTO:-0500
TZNAME:EST
DTSTART:20261101T060000
END:STANDARD
BEGIN:DAYLIGHT
TZOFFSETFROM:-0500
TZOFFSETTO:-0400
TZNAME:EDT
DTSTART:20270314T070000
END:DAYLIGHT
BEGIN:STANDARD
TZOFFSETFROM:-0400
TZOFFSETTO:-0500
TZNAME:EST
DTSTART:20271107T060000
END:STANDARD
END:VTIMEZONE
BEGIN:VEVENT
DTSTART;TZID=America/Toronto:20260201T140000
DTEND;TZID=America/Toronto:20260201T140000
DTSTAMP:20260421T095523
CREATED:20251229T205904Z
LAST-MODIFIED:20260108T154707Z
UID:6111-1769954400-1769954400@www.lakefieldanimalwelfare.org
SUMMARY:Bridgenorth Ennismore Lakefield (BEL) Polar Plunge 2026
DESCRIPTION:The Polar Plunge is a community fundraising event proudly hosted by the Bridgenorth Ennismore Lakefield Rotary Club. For more than 46 years\, the Club has raised hundreds of thousands of dollars in support of local charities and community initiatives. Participants are invited to brave the cold and help make a meaningful impact across our region. \nMary and Luke Coulas\, local community members\, are taking the plunge in support of the Lakefield Animal Welfare Society. Funds raised through their participation will directly support the animals in our care\, helping provide shelter\, medical treatment\, and second chances for pets in need. \nVisit Mary and Luke’s Polar Plunge fundraiser page here: https://www.easypledge.ca/bel-rotary/participant.php?id=5193
URL:https://www.lakefieldanimalwelfare.org/events_calendars/polar-plunge-2026-fundraiser-lakefield/
LOCATION:West Side of the James Gifford Causeway\, Ennismore.
CATEGORIES:Community Organized Fundraiser
ATTACH;FMTTYPE=image/png:https://www.lakefieldanimalwelfare.org/wp-content/uploads/2025/12/2026-poster-1.png
END:VEVENT
END:VCALENDAR