BEGIN:VCALENDAR
VERSION:2.0
PRODID:-//Lakefield Animal Welfare Society - ECPv6.15.20//NONSGML v1.0//EN
CALSCALE:GREGORIAN
METHOD:PUBLISH
X-ORIGINAL-URL:https://www.lakefieldanimalwelfare.org
X-WR-CALDESC:Events for Lakefield Animal Welfare Society
REFRESH-INTERVAL;VALUE=DURATION:PT1H
X-Robots-Tag:noindex
X-PUBLISHED-TTL:PT1H
BEGIN:VTIMEZONE
TZID:America/Toronto
BEGIN:DAYLIGHT
TZOFFSETFROM:-0500
TZOFFSETTO:-0400
TZNAME:EDT
DTSTART:20250309T070000
END:DAYLIGHT
BEGIN:STANDARD
TZOFFSETFROM:-0400
TZOFFSETTO:-0500
TZNAME:EST
DTSTART:20251102T060000
END:STANDARD
BEGIN:DAYLIGHT
TZOFFSETFROM:-0500
TZOFFSETTO:-0400
TZNAME:EDT
DTSTART:20260308T070000
END:DAYLIGHT
BEGIN:STANDARD
TZOFFSETFROM:-0400
TZOFFSETTO:-0500
TZNAME:EST
DTSTART:20261101T060000
END:STANDARD
BEGIN:DAYLIGHT
TZOFFSETFROM:-0500
TZOFFSETTO:-0400
TZNAME:EDT
DTSTART:20270314T070000
END:DAYLIGHT
BEGIN:STANDARD
TZOFFSETFROM:-0400
TZOFFSETTO:-0500
TZNAME:EST
DTSTART:20271107T060000
END:STANDARD
END:VTIMEZONE
BEGIN:VEVENT
DTSTART;TZID=America/Toronto:20260328T113000
DTEND;TZID=America/Toronto:20260328T203000
DTSTAMP:20260421T084222
CREATED:20260318T185347Z
LAST-MODIFIED:20260319T124715Z
UID:8365-1774697400-1774729800@www.lakefieldanimalwelfare.org
SUMMARY:“A Sweet Cause” at Cassis Bistro
DESCRIPTION:Mark your calendars for a special Dessert Day fundraiser! \nJoin Cassis Bistro on Saturday\, March 28th\, for “A Sweet Cause.” Their chef will be preparing a selection of delicious desserts\, and they’re completely free all day! Instead of paying for dessert\, visitors are invited to make a cash donation\, with 100% of the proceeds going to LAWS to support the work we do in our community. \nDesserts are available for takeout or you’re welcome to enjoy one after your meal. Lunch and dinner reservations are highly recommended if you’re planning on dining in. Please note that due to limited seating\, there will not be tables available for dessert-only dining. \nGet in touch directly with Cassis Bistro to make your reservation\, or simply stop by to pick up a dessert and make your donation. Contact them at 705-652-8045 or cassisbistro27.com. \nWe hope you’ll visit\, enjoy something sweet\, and help support LAWS. Thank you for your kindness and generosity!
URL:https://www.lakefieldanimalwelfare.org/events_calendars/a-sweet-cause-at-cassis-bistro/
LOCATION:Cassis Bistro\, 27 Queen Street\, Lakefield\, Ontario\, K0L 2H0\, Canada
CATEGORIES:Community Organized Fundraiser
ATTACH;FMTTYPE=image/jpeg:https://www.lakefieldanimalwelfare.org/wp-content/uploads/2026/03/2026-03-28-cassis-bistro-event-poster.jpeg
ORGANIZER;CN="Cassis Bistro":MAILTO:cassisbistro27@gmail.com
END:VEVENT
END:VCALENDAR